BEGIN:VCALENDAR
VERSION:2.0
PRODID:-//hacksw/handcal//NONSGML v1.0//EN
CALSCALE:GREGORIAN
BEGIN:VEVENT
LOCATION:Studio
DESCRIPTION:Abschlussproduktion der Schauspielklasse der AdK Ulm
DTSTART:20250407T180000Z
DTEND:20250407T190000Z
SUMMARY:Genannt Gospodin von Philipp Löhle
URL;VALUE=URI:https://www.roxy.ulm.de/programm/programm.php?vid=5102
DTSTAMP:20260422T224142Z
UID:69e932865de78
END:VEVENT
END:VCALENDAR