BEGIN:VCALENDAR
VERSION:2.0
PRODID:-//hacksw/handcal//NONSGML v1.0//EN
CALSCALE:GREGORIAN
BEGIN:VEVENT
LOCATION:Werkhalle
DESCRIPTION:HADER ON ICE 
DTSTART:20260418T180000Z
DTEND:20260418T190000Z
SUMMARY:Josef Hader
URL;VALUE=URI:https://www.roxy.ulm.de/programm/programm.php?vid=4990
DTSTAMP:20260426T025145Z
UID:69ed61a1ee60c
END:VEVENT
END:VCALENDAR