BEGIN:VCALENDAR
VERSION:2.0
PRODID:-//hacksw/handcal//NONSGML v1.0//EN
CALSCALE:GREGORIAN
BEGIN:VEVENT
LOCATION:Werkhalle
DESCRIPTION:GLEICH
DTSTART:20250514T180000Z
DTEND:20250514T190000Z
SUMMARY:Alfred Dorfer
URL;VALUE=URI:https://www.roxy.ulm.de/programm/programm.php?vid=4969
DTSTAMP:20260422T073326Z
UID:69e85da608c3a
END:VEVENT
END:VCALENDAR