BEGIN:VCALENDAR
VERSION:2.0
PRODID:-//hacksw/handcal//NONSGML v1.0//EN
CALSCALE:GREGORIAN
BEGIN:VEVENT
LOCATION:Sound Garten
DESCRIPTION:ROXY Sound Garten
DTSTART:20240803T180000Z
DTEND:20240803T190000Z
SUMMARY:Loud Packers
URL;VALUE=URI:https://www.roxy.ulm.de/programm/programm.php?vid=4860
DTSTAMP:20260421T190854Z
UID:69e7af26b1a2f
END:VEVENT
END:VCALENDAR