BEGIN:VCALENDAR
VERSION:2.0
PRODID:-//hacksw/handcal//NONSGML v1.0//EN
CALSCALE:GREGORIAN
BEGIN:VEVENT
LOCATION:Cafébar
DESCRIPTION:Orientalische Nacht
DTSTART:20240212T190000Z
DTEND:20240212T200000Z
SUMMARY:Rosenmontagsball
URL;VALUE=URI:https://www.roxy.ulm.de/programm/programm.php?vid=4706
DTSTAMP:20260426T010922Z
UID:69ed49a278741
END:VEVENT
END:VCALENDAR