BEGIN:VCALENDAR
VERSION:2.0
PRODID:-//hacksw/handcal//NONSGML v1.0//EN
CALSCALE:GREGORIAN
BEGIN:VEVENT
LOCATION:Werkhalle
DESCRIPTION:Bühne für Künstler:innen aus allen Bereichen 
DTSTART:20231023T180000Z
DTEND:20231023T190000Z
SUMMARY:Open Stage
URL;VALUE=URI:https://www.roxy.ulm.de/programm/programm.php?vid=4501
DTSTAMP:20260419T222545Z
UID:69e53a4990fdb
END:VEVENT
END:VCALENDAR