BEGIN:VCALENDAR
VERSION:2.0
PRODID:-//hacksw/handcal//NONSGML v1.0//EN
CALSCALE:GREGORIAN
BEGIN:VEVENT
LOCATION:Studio
DESCRIPTION:ReCycling Tour 2023
DTSTART:20230608T170000Z
DTEND:20230608T180000Z
SUMMARY:Manu Delago
URL;VALUE=URI:https://www.roxy.ulm.de/programm/programm.php?vid=4274
DTSTAMP:20260422T204430Z
UID:69e9170e701a5
END:VEVENT
END:VCALENDAR