BEGIN:VCALENDAR
VERSION:2.0
PRODID:-//hacksw/handcal//NONSGML v1.0//EN
CALSCALE:GREGORIAN
BEGIN:VEVENT
LOCATION:Cafébar
DESCRIPTION:
DTSTART:20221023T180000Z
DTEND:20221023T190000Z
SUMMARY:Benoît Martiny Sextett
URL;VALUE=URI:https://www.roxy.ulm.de/programm/programm.php?vid=4149
DTSTAMP:20260422T073022Z
UID:69e85ceeb1e20
END:VEVENT
END:VCALENDAR