BEGIN:VCALENDAR
VERSION:2.0
PRODID:-//hacksw/handcal//NONSGML v1.0//EN
CALSCALE:GREGORIAN
BEGIN:VEVENT
LOCATION:Werkhalle
DESCRIPTION:Cloudy June + Hyphen Hyphen * wird verschoben - Ersatzermin unbekannt
DTSTART:20221001T180000Z
DTEND:20221001T190000Z
SUMMARY:FEMTASTIQUE
URL;VALUE=URI:https://www.roxy.ulm.de/programm/programm.php?vid=4103
DTSTAMP:20260422T073001Z
UID:69e85cd9d5af2
END:VEVENT
END:VCALENDAR