BEGIN:VCALENDAR
VERSION:2.0
PRODID:-//hacksw/handcal//NONSGML v1.0//EN
CALSCALE:GREGORIAN
BEGIN:VEVENT
LOCATION:Labor\, TanzLabor
DESCRIPTION:Open Class
DTSTART:20220928T160000Z
DTEND:20220928T170000Z
SUMMARY:Tanz-Workshop mit Matthias Kass
URL;VALUE=URI:https://www.roxy.ulm.de/programm/programm.php?vid=4080
DTSTAMP:20260422T080917Z
UID:69e8660d60c7b
END:VEVENT
END:VCALENDAR