BEGIN:VCALENDAR
VERSION:2.0
PRODID:-//hacksw/handcal//NONSGML v1.0//EN
CALSCALE:GREGORIAN
BEGIN:VEVENT
LOCATION:Studio\, TanzLabor
DESCRIPTION:Tanzperformance von company Idem
DTSTART:20220929T180000Z
DTEND:20220929T190000Z
SUMMARY:SCHEIN
URL;VALUE=URI:https://www.roxy.ulm.de/programm/programm.php?vid=4076
DTSTAMP:20260422T073043Z
UID:69e85d03903ba
END:VEVENT
END:VCALENDAR