BEGIN:VCALENDAR
VERSION:2.0
PRODID:-//hacksw/handcal//NONSGML v1.0//EN
CALSCALE:GREGORIAN
BEGIN:VEVENT
LOCATION:Cafébar
DESCRIPTION:
DTSTART:20221007T180000Z
DTEND:20221007T190000Z
SUMMARY:Gaby Moreno
URL;VALUE=URI:https://www.roxy.ulm.de/programm/programm.php?vid=4059
DTSTAMP:20260422T073302Z
UID:69e85d8ee4ce6
END:VEVENT
END:VCALENDAR