BEGIN:VCALENDAR
VERSION:2.0
PRODID:-//hacksw/handcal//NONSGML v1.0//EN
CALSCALE:GREGORIAN
BEGIN:VEVENT
LOCATION:Werkhalle
DESCRIPTION:BRING BACK THE TIME Tour 2022
DTSTART:20221014T180000Z
DTEND:20221014T190000Z
SUMMARY:Henrik Freischlader
URL;VALUE=URI:https://www.roxy.ulm.de/programm/programm.php?vid=4027
DTSTAMP:20260422T073421Z
UID:69e85ddd14416
END:VEVENT
END:VCALENDAR