BEGIN:VCALENDAR
VERSION:2.0
PRODID:-//hacksw/handcal//NONSGML v1.0//EN
CALSCALE:GREGORIAN
BEGIN:VEVENT
LOCATION:Werkhalle
DESCRIPTION:KOLLAPS.
DTSTART:20220928T180000Z
DTEND:20220928T190000Z
SUMMARY:Moritz Neumeier
URL;VALUE=URI:https://www.roxy.ulm.de/programm/programm.php?vid=4008
DTSTAMP:20260422T075137Z
UID:69e861e9ac058
END:VEVENT
END:VCALENDAR