BEGIN:VCALENDAR
VERSION:2.0
PRODID:-//hacksw/handcal//NONSGML v1.0//EN
CALSCALE:GREGORIAN
BEGIN:VEVENT
LOCATION:Cafébar
DESCRIPTION:
DTSTART:20221006T180000Z
DTEND:20221006T190000Z
SUMMARY:HATTLER
URL;VALUE=URI:https://www.roxy.ulm.de/programm/programm.php?vid=3936
DTSTAMP:20260422T080916Z
UID:69e8660ce710c
END:VEVENT
END:VCALENDAR