BEGIN:VCALENDAR
VERSION:2.0
PRODID:-//hacksw/handcal//NONSGML v1.0//EN
CALSCALE:GREGORIAN
BEGIN:VEVENT
LOCATION:Werkhalle
DESCRIPTION:or brüm - blaues Gold
DTSTART:20220929T180000Z
DTEND:20220929T190000Z
SUMMARY:Ganes
URL;VALUE=URI:https://www.roxy.ulm.de/programm/programm.php?vid=3903
DTSTAMP:20260422T073211Z
UID:69e85d5b230a1
END:VEVENT
END:VCALENDAR