BEGIN:VCALENDAR
VERSION:2.0
PRODID:-//hacksw/handcal//NONSGML v1.0//EN
CALSCALE:GREGORIAN
BEGIN:VEVENT
LOCATION:Werkhalle
DESCRIPTION:ALLES GEHT VORBEI // TOUR 2022
DTSTART:20221020T180000Z
DTEND:20221020T190000Z
SUMMARY:KAFFKIEZ
URL;VALUE=URI:https://www.roxy.ulm.de/programm/programm.php?vid=3902
DTSTAMP:20260422T073247Z
UID:69e85d7f9e679
END:VEVENT
END:VCALENDAR