BEGIN:VCALENDAR
VERSION:2.0
PRODID:-//hacksw/handcal//NONSGML v1.0//EN
CALSCALE:GREGORIAN
BEGIN:VEVENT
LOCATION:Werkhalle
DESCRIPTION:Willkommen in der Autonomen Zone
DTSTART:20220605T180000Z
DTEND:20220605T190000Z
SUMMARY:Mono & Nikitaman
URL;VALUE=URI:https://www.roxy.ulm.de/programm/programm.php?vid=3899
DTSTAMP:20260423T124916Z
UID:69e9f92cf08e7
END:VEVENT
END:VCALENDAR