BEGIN:VCALENDAR
VERSION:2.0
PRODID:-//hacksw/handcal//NONSGML v1.0//EN
CALSCALE:GREGORIAN
BEGIN:VEVENT
LOCATION:Cafébar
DESCRIPTION:I Am My Mother
DTSTART:20221022T180000Z
DTEND:20221022T190000Z
SUMMARY:Black Sea Dahu
URL;VALUE=URI:https://www.roxy.ulm.de/programm/programm.php?vid=3892
DTSTAMP:20260422T073119Z
UID:69e85d271f83e
END:VEVENT
END:VCALENDAR