BEGIN:VCALENDAR
VERSION:2.0
PRODID:-//hacksw/handcal//NONSGML v1.0//EN
CALSCALE:GREGORIAN
BEGIN:VEVENT
LOCATION:Werkhalle\, TanzLabor
DESCRIPTION:International Double Feature Tanz Performance 
DTSTART:20211215T190000Z
DTEND:20211215T200000Z
SUMMARY:Kor'sia: Bird // Company Idem: Gestik
URL;VALUE=URI:https://www.roxy.ulm.de/programm/programm.php?vid=3858
DTSTAMP:20260424T161836Z
UID:69eb7bbcb4657
END:VEVENT
END:VCALENDAR