BEGIN:VCALENDAR
VERSION:2.0
PRODID:-//hacksw/handcal//NONSGML v1.0//EN
CALSCALE:GREGORIAN
BEGIN:VEVENT
LOCATION:Werkhalle
DESCRIPTION:mit Blöff the Monkey\, Lemony Rug\, Loud Packers und Moltke&Mörike
DTSTART:20211223T190000Z
DTEND:20211223T200000Z
SUMMARY:Heimspiel 2021
URL;VALUE=URI:https://www.roxy.ulm.de/programm/programm.php?vid=3535
DTSTAMP:20260423T014018Z
UID:69e95c627482f
END:VEVENT
END:VCALENDAR