BEGIN:VCALENDAR
VERSION:2.0
PRODID:-//hacksw/handcal//NONSGML v1.0//EN
CALSCALE:GREGORIAN
BEGIN:VEVENT
LOCATION:Werkhalle
DESCRIPTION:HIGHLAND TOUR 2021 - verschoben auf 25.10.2021
DTSTART:20210219T183000Z
DTEND:20210219T193000Z
SUMMARY:GReeeN
URL;VALUE=URI:https://www.roxy.ulm.de/programm/programm.php?vid=3437
DTSTAMP:20260423T020301Z
UID:69e961b52e0c3
END:VEVENT
END:VCALENDAR