BEGIN:VCALENDAR
VERSION:2.0
PRODID:-//hacksw/handcal//NONSGML v1.0//EN
CALSCALE:GREGORIAN
BEGIN:VEVENT
LOCATION:Werkhalle
DESCRIPTION:Ein europäisches Theaterstück
DTSTART:20191106T180000Z
DTEND:20191106T190000Z
SUMMARY:Nach Europa
URL;VALUE=URI:https://www.roxy.ulm.de/programm/programm.php?vid=3133
DTSTAMP:20260425T164216Z
UID:69ecd2c8a7997
END:VEVENT
END:VCALENDAR