BEGIN:VCALENDAR
VERSION:2.0
PRODID:-//hacksw/handcal//NONSGML v1.0//EN
CALSCALE:GREGORIAN
BEGIN:VEVENT
LOCATION:Werkhalle
DESCRIPTION:Die offene Bühne für Künstler aus allen Bereichen
DTSTART:20181217T190000Z
DTEND:20181217T200000Z
SUMMARY:Open Stage
URL;VALUE=URI:https://www.roxy.ulm.de/programm/programm.php?vid=2729
DTSTAMP:20260421T212048Z
UID:69e7ce10e087d
END:VEVENT
END:VCALENDAR