BEGIN:VCALENDAR
VERSION:2.0
PRODID:-//hacksw/handcal//NONSGML v1.0//EN
CALSCALE:GREGORIAN
BEGIN:VEVENT
LOCATION:Werkhalle
DESCRIPTION:"Heit nemme ond morga net glei" Tour 2017
DTSTART:20171229T190000Z
DTEND:20171229T200000Z
SUMMARY:Herrn Stumpfes Zieh & Zupf Kapelle
URL;VALUE=URI:https://www.roxy.ulm.de/programm/programm.php?vid=2547
DTSTAMP:20260423T192949Z
UID:69ea570d3cae5
END:VEVENT
END:VCALENDAR